BEGIN:VCALENDAR
VERSION:2.0
PRODID:-//Matthew Brower - ECPv6.9.0//NONSGML v1.0//EN
CALSCALE:GREGORIAN
METHOD:PUBLISH
X-WR-CALNAME:Matthew Brower
X-ORIGINAL-URL:https://www.matthewbrowerpianist.com
X-WR-CALDESC:Events for Matthew Brower
REFRESH-INTERVAL;VALUE=DURATION:PT1H
X-Robots-Tag:noindex
X-PUBLISHED-TTL:PT1H
BEGIN:VTIMEZONE
TZID:America/New_York
BEGIN:DAYLIGHT
TZOFFSETFROM:-0500
TZOFFSETTO:-0400
TZNAME:EDT
DTSTART:20190310T070000
END:DAYLIGHT
BEGIN:STANDARD
TZOFFSETFROM:-0400
TZOFFSETTO:-0500
TZNAME:EST
DTSTART:20191103T060000
END:STANDARD
BEGIN:DAYLIGHT
TZOFFSETFROM:-0500
TZOFFSETTO:-0400
TZNAME:EDT
DTSTART:20200308T070000
END:DAYLIGHT
BEGIN:STANDARD
TZOFFSETFROM:-0400
TZOFFSETTO:-0500
TZNAME:EST
DTSTART:20201101T060000
END:STANDARD
END:VTIMEZONE
BEGIN:VEVENT
DTSTART;VALUE=DATE:20201113
DTEND;VALUE=DATE:20201115
DTSTAMP:20260423T144656
CREATED:20200320T052345Z
LAST-MODIFIED:20201012T125714Z
UID:1012-1605225600-1605398399@www.matthewbrowerpianist.com
SUMMARY:Beethoven Piano Concerto No. 2 with the Annapolis Chamber Orchestra (CANCELED due to COVID-19)
DESCRIPTION:In celebration of the composer’s 250th birthday\, Matthew will be the soloist for Beethoven’s 2nd Piano Concerto with the Annapolis Chamber Orchestra\, under the direction of J. Ernest Green.
URL:https://www.matthewbrowerpianist.com/event/beethoven-piano-concerto-no-2-with-the-annapolis-chamber-orchestra/
LOCATION:Maryland Hall for the Creative Arts\, 801 Chase St.\, Annapolis\, MD
END:VEVENT
BEGIN:VEVENT
DTSTART;TZID=America/New_York:20201107T150000
DTEND;TZID=America/New_York:20201107T170000
DTSTAMP:20260423T144656
CREATED:20200320T045545Z
LAST-MODIFIED:20201030T040036Z
UID:1005-1604761200-1604768400@www.matthewbrowerpianist.com
SUMMARY:University of Delaware Master Players Concert Series (CANCELED due to COVID-19)
DESCRIPTION:6-wire will present a program featuring new compositions and arrangements as part of UD’s 2020-2021 Concert Series entitled Prisms of Sound.
URL:https://www.matthewbrowerpianist.com/event/university-of-delaware-master-players-concert-series-6-wire/
LOCATION:Gore Recital Hall\, University of Delaware\, Newark\, DE
END:VEVENT
BEGIN:VEVENT
DTSTART;TZID=America/New_York:20200719T190000
DTEND;TZID=America/New_York:20200719T203000
DTSTAMP:20260423T144656
CREATED:20191011T205404Z
LAST-MODIFIED:20200710T192037Z
UID:911-1595185200-1595190600@www.matthewbrowerpianist.com
SUMMARY:Midsummer Night Soirees: 6-WIRE World Music Band (POSTPONED DUE TO COVID-19)
DESCRIPTION:6-wire will kick off the Master Players Concert Series’ new Midsummer Night Soirees series at the University of Delaware. The band will perform new compositions and feature the return of tabla virtuoso Sandeep Das\, member of the Silk Road Ensemble. \n  \n 
URL:https://www.matthewbrowerpianist.com/event/university-of-delaware-alumni-weekend-concert-6-wire-world-music-band/
LOCATION:Gore Recital Hall\, University of Delaware\, Newark\, DE
END:VEVENT
BEGIN:VEVENT
DTSTART;VALUE=DATE:20200622
DTEND;VALUE=DATE:20200625
DTSTAMP:20260423T144656
CREATED:20191219T205318Z
LAST-MODIFIED:20200406T023547Z
UID:945-1592784000-1593043199@www.matthewbrowerpianist.com
SUMMARY:International Conference of Europeanists at the University of Iceland (CANCELED due to COVID-19)
DESCRIPTION:Matthew will be traveling to Reykjavík to co-present a paper with Didem Uca entitled “Little Women and Mansplaining: Mignon’s Ventriloquist Act”.
URL:https://www.matthewbrowerpianist.com/event/international-conference-of-europeanists-at-the-university-of-iceland/
LOCATION:University of Iceland\, Reykjavík
END:VEVENT
BEGIN:VEVENT
DTSTART;VALUE=DATE:20200531
DTEND;VALUE=DATE:20200621
DTSTAMP:20260423T144656
CREATED:20200320T051420Z
LAST-MODIFIED:20200505T023538Z
UID:1007-1590883200-1592697599@www.matthewbrowerpianist.com
SUMMARY:Collaborative Piano Institute at Louisiana State University
DESCRIPTION:Matthew is excited to be joining the esteemed faculty of this summer’s Collaborative Piano Institute at Louisiana State University\, which will take place online due to COVID-19. He will be giving lectures\, teaching private lessons\, and coaching up-and-coming pianists from around the world. Check out his faculty profile here: https://www.collaborativepianoinstitute.org/faculty/piano-faculty/matthew-brower-piano/
URL:https://www.matthewbrowerpianist.com/event/collaborative-piano-institute-at-louisiana-state-university/
LOCATION:Louisiana State University\, Baton Rouge\, LA
END:VEVENT
BEGIN:VEVENT
DTSTART;VALUE=DATE:20200518
DTEND;VALUE=DATE:20200519
DTSTAMP:20260423T144656
CREATED:20200330T041754Z
LAST-MODIFIED:20200330T041754Z
UID:1017-1589760000-1589846399@www.matthewbrowerpianist.com
SUMMARY:Prince George's Music Teachers Association Piano Competition
DESCRIPTION:Due to COVID-19\, Matthew will be virtually adjudicating the piano competition for high school students for Prince George’s County\, Maryland.
URL:https://www.matthewbrowerpianist.com/event/prince-georges-music-teachers-association-piano-competition/
LOCATION:PA
END:VEVENT
BEGIN:VEVENT
DTSTART;TZID=America/New_York:20200501T160000
DTEND;TZID=America/New_York:20200501T180000
DTSTAMP:20260423T144656
CREATED:20190923T231014Z
LAST-MODIFIED:20200320T041746Z
UID:878-1588348800-1588356000@www.matthewbrowerpianist.com
SUMMARY:Washington College Voice Department Recital (CANCELED due to COVID-19)
DESCRIPTION:
URL:https://www.matthewbrowerpianist.com/event/washington-college-voice-department-recital-2/
LOCATION:Hotchkiss Recital Hall\, Washington College\, Chestertown\, MD\, United States
END:VEVENT
BEGIN:VEVENT
DTSTART;TZID=America/New_York:20200425T200000
DTEND;TZID=America/New_York:20200425T220000
DTSTAMP:20260423T144656
CREATED:20191011T210310Z
LAST-MODIFIED:20200330T184321Z
UID:913-1587844800-1587852000@www.matthewbrowerpianist.com
SUMMARY:Sacred and Profane – Carmina Burana with the Annapolis Chorale (CANCELED due to COVID-19)
DESCRIPTION:Matthew joins the Annapolis Chorale and the Washington College Chorus for another performance of Carmina Burana at the Maryland Hall for the Creative Arts.
URL:https://www.matthewbrowerpianist.com/event/sacred-and-profane-carmina-burana-with-the-annapolis-chorale/
LOCATION:Maryland Hall for the Creative Arts\, 801 Chase St.\, Annapolis\, MD
END:VEVENT
BEGIN:VEVENT
DTSTART;TZID=America/New_York:20200425T150000
DTEND;TZID=America/New_York:20200425T160000
DTSTAMP:20260423T144656
CREATED:20200426T184220Z
LAST-MODIFIED:20200426T184308Z
UID:1045-1587826800-1587830400@www.matthewbrowerpianist.com
SUMMARY:Master Players Concert Series: Backstage Pass Webinar
DESCRIPTION:The University of Delaware’s Master Players Concert Series presents a free webinar as part of their new Backstage Pass Online series. Violinist Xiang Gao will perform live via Zoom over Matthew’s remotely recorded piano accompaniments. More information can be found here: https://www.masterplayers.udel.edu/outreach/backstagepassonline
URL:https://www.matthewbrowerpianist.com/event/master-players-concert-series-backstage-pass-webinar/
LOCATION:PA
END:VEVENT
BEGIN:VEVENT
DTSTART;TZID=America/New_York:20200424T193000
DTEND;TZID=America/New_York:20200424T210000
DTSTAMP:20260423T144656
CREATED:20190821T014653Z
LAST-MODIFIED:20200320T041844Z
UID:862-1587756600-1587762000@www.matthewbrowerpianist.com
SUMMARY:Washington College Premier Artists Series: Carmina Burana (CANCELED due to COVID-19)
DESCRIPTION:Come join us for a colossal event as Matthew and the Washington College Chorus team up with the Annapolis Chorale for a performance of Carl Orff’s classic Carmina Burana!
URL:https://www.matthewbrowerpianist.com/event/washington-college-premier-artists-series-carmina-burana/
LOCATION:Decker Theatre\, Washington College\, Chestertown\, MD\, United States
END:VEVENT
BEGIN:VEVENT
DTSTART;VALUE=DATE:20200328
DTEND;VALUE=DATE:20200329
DTSTAMP:20260423T144656
CREATED:20200320T051633Z
LAST-MODIFIED:20200320T051633Z
UID:1010-1585353600-1585439999@www.matthewbrowerpianist.com
SUMMARY:3rd Annual Washington College Piano Festival (CANCELED due to COVID-19)
DESCRIPTION:Due to the coronavirus (COVID-19) and the need for social distancing\, this year’s Washington College Piano Festival has been canceled. While we were looking forward to this year’s events\, which included a master class\, improvisation workshop\, student concert\, and guest artist recital\, we know this is the right decision for the everyone’s health. Stay safe\, everyone!
URL:https://www.matthewbrowerpianist.com/event/3rd-annual-washington-college-piano-festival-canceled-due-to-covid-19/
LOCATION:Washington College\, 300 Washington Ave\, Chestertown\, MD\, 21620
END:VEVENT
BEGIN:VEVENT
DTSTART;TZID=America/New_York:20200311T160000
DTEND;TZID=America/New_York:20200311T170000
DTSTAMP:20260423T144656
CREATED:20200312T201403Z
LAST-MODIFIED:20200312T201403Z
UID:988-1583942400-1583946000@www.matthewbrowerpianist.com
SUMMARY:Lecture: Taking the Lied on a New Genre: Poetry in Song
DESCRIPTION:Matthew will be giving a lecture for Colgate University’s German Department on German Lieder\, including significant composers and examples of their works and how they shaped the art song genre.
URL:https://www.matthewbrowerpianist.com/event/lecture-taking-the-lied-on-a-new-genre-poetry-in-song/
LOCATION:Colgate University\, Max-Kade Center
END:VEVENT
BEGIN:VEVENT
DTSTART;VALUE=DATE:20200309
DTEND;VALUE=DATE:20200310
DTSTAMP:20260423T144656
CREATED:20200111T210942Z
LAST-MODIFIED:20200111T210942Z
UID:962-1583712000-1583798399@www.matthewbrowerpianist.com
SUMMARY:Colgate University Vocal Master Class
DESCRIPTION:
URL:https://www.matthewbrowerpianist.com/event/colgate-university-vocal-master-class-2/
LOCATION:Colgate University\, 13 Oak Drive\, Hamilton\, NY\, 13346
END:VEVENT
BEGIN:VEVENT
DTSTART;VALUE=DATE:20200307
DTEND;VALUE=DATE:20200309
DTSTAMP:20260423T144656
CREATED:20191115T182750Z
LAST-MODIFIED:20191115T182750Z
UID:928-1583539200-1583711999@www.matthewbrowerpianist.com
SUMMARY:College Music Society Northeast Regional Conference
DESCRIPTION:Matthew will be collaborating with sopranos Sylvia Stoner and Anne Jennifer Nash and mezzo-soprano Sharon Campbell to present scenes from Sister – Show Me Eternity\, written in a new music theater genre that weaves art songs together into a larger narrative based on Emily Dickenson’s life.
URL:https://www.matthewbrowerpianist.com/event/college-music-society-northeast-regional-conference/
LOCATION:Temple University Boyer College of Music and Dance\, 2001 North 13th Street\, Philadelphia\, PA\, 19122
END:VEVENT
BEGIN:VEVENT
DTSTART;VALUE=DATE:20200226
DTEND;VALUE=DATE:20200301
DTSTAMP:20260423T144656
CREATED:20200211T054439Z
LAST-MODIFIED:20200211T054439Z
UID:983-1582675200-1583020799@www.matthewbrowerpianist.com
SUMMARY:The Who’s Tommy at Washington College
DESCRIPTION:Matthew will join fellow Washington College students and faculty in the pit orchestra as a keyboard/synthesizer player for four performances of The Who’s Tommy. Tickets and info can be found here: https://www.washcoll.edu/live/events/22701-the-whos-tommy \n 
URL:https://www.matthewbrowerpianist.com/event/the-whos-tommy-at-washington-college/
LOCATION:Hotchkiss Recital Hall\, Washington College\, Chestertown\, MD\, United States
END:VEVENT
BEGIN:VEVENT
DTSTART;VALUE=DATE:20200223
DTEND;VALUE=DATE:20200225
DTSTAMP:20260423T144656
CREATED:20190821T013516Z
LAST-MODIFIED:20190821T013516Z
UID:860-1582416000-1582588799@www.matthewbrowerpianist.com
SUMMARY:Chamber Orchestra of Philadelphia: Á la Française
DESCRIPTION:Matthew will be playing celeste in Ravel’s Tzigane as part of an all-French program at the Kimmel Center. Tickets and information can be found here: https://chamberorchestra.org/#1920
URL:https://www.matthewbrowerpianist.com/event/chamber-orchestra-of-philadelphia-a-la-francaise/
LOCATION:Perelman Theater – Kimmel Center\, 300 South Broad St. \, Philadelphia\, PA\, 19102
END:VEVENT
BEGIN:VEVENT
DTSTART;VALUE=DATE:20200215
DTEND;VALUE=DATE:20200217
DTSTAMP:20260423T144656
CREATED:20190821T005947Z
LAST-MODIFIED:20190821T005947Z
UID:853-1581724800-1581897599@www.matthewbrowerpianist.com
SUMMARY:Shanghai Sonatas: World Premiere of a New Musical
DESCRIPTION:Matthew will be playing in the pit for this new musical\, based on memoirs of Jewish refugee musicians who fled to Shanghai from Nazi Germany and trained the first generation of Western Classical musicians in China. More information can be found here: http://shanghaisonatas.com/
URL:https://www.matthewbrowerpianist.com/event/shanghai-sonatas-world-premiere-of-a-new-musical/
LOCATION:Mitchell Hall\, University of Delaware\, Newark\, DE\, United States
END:VEVENT
BEGIN:VEVENT
DTSTART;TZID=America/New_York:20191118T193000
DTEND;TZID=America/New_York:20191118T213000
DTSTAMP:20260423T144656
CREATED:20190923T230450Z
LAST-MODIFIED:20190923T230450Z
UID:874-1574105400-1574112600@www.matthewbrowerpianist.com
SUMMARY:Washington College Honors Recital
DESCRIPTION:Matthew will collaborate with students at Washington College who were selected by audition for this opportunity to showcase their talent!
URL:https://www.matthewbrowerpianist.com/event/washington-college-honors-recital/
LOCATION:Hotchkiss Recital Hall\, Washington College\, Chestertown\, MD\, United States
END:VEVENT
BEGIN:VEVENT
DTSTART;TZID=America/New_York:20191116T200000
DTEND;TZID=America/New_York:20191116T213000
DTSTAMP:20260423T144656
CREATED:20190923T230834Z
LAST-MODIFIED:20190923T230834Z
UID:876-1573934400-1573939800@www.matthewbrowerpianist.com
SUMMARY:Masters Degree Recital: Daniel Seymour\, violin
DESCRIPTION:
URL:https://www.matthewbrowerpianist.com/event/masters-degree-recital-daniel-seymour-violin/
LOCATION:Gore Recital Hall\, University of Delaware\, Newark\, DE
END:VEVENT
BEGIN:VEVENT
DTSTART;TZID=America/New_York:20191110T200000
DTEND;TZID=America/New_York:20191110T213000
DTSTAMP:20260423T144656
CREATED:20191017T202849Z
LAST-MODIFIED:20191017T202849Z
UID:921-1573416000-1573421400@www.matthewbrowerpianist.com
SUMMARY:University of Delaware Violin Studio Recital
DESCRIPTION:
URL:https://www.matthewbrowerpianist.com/event/university-of-delaware-violin-studio-recital-3/
LOCATION:Bayard Sharp Hall\, 23 South Main St.\, Newark\, DE\, 19711
END:VEVENT
BEGIN:VEVENT
DTSTART;VALUE=DATE:20191006
DTEND;VALUE=DATE:20191007
DTSTAMP:20260423T144656
CREATED:20191219T204310Z
LAST-MODIFIED:20191219T204310Z
UID:942-1570320000-1570406399@www.matthewbrowerpianist.com
SUMMARY:Maryland Music Teachers Association State Conference
DESCRIPTION:
URL:https://www.matthewbrowerpianist.com/event/maryland-music-teachers-association-state-conference/
LOCATION:University of Maryland School of Music\, College Park\, MD
END:VEVENT
BEGIN:VEVENT
DTSTART;TZID=America/New_York:20190922T133000
DTEND;TZID=America/New_York:20190922T153000
DTSTAMP:20260423T144656
CREATED:20190923T224723Z
LAST-MODIFIED:20190923T224723Z
UID:871-1569159000-1569166200@www.matthewbrowerpianist.com
SUMMARY:Beth Sholom Synagogue: David Hartt: The Histories (Le Mancenillier)
DESCRIPTION:Join baritone\, Jean Bernard Cerin\, cellist\, Eve Miller\, and Matthew in a “Live Activation” as they fuse music with a visual art installation in a stunning National Historic Landmark synagogue designed by Frank Lloyd Wright. The program explores music with Creole roots from Haiti\, Louisiana\, and beyond\, in collaboration with artist and University of Pennsylvania Professor David Hartt. \n 
URL:https://www.matthewbrowerpianist.com/event/beth-sholom-synagogue-david-hartt-the-histories-le-mancenillier/
LOCATION:Beth Sholom Synagogue\, 8231 Old York Rd\, Elkins Park\, PA
END:VEVENT
BEGIN:VEVENT
DTSTART;TZID=America/New_York:20190815T200000
DTEND;TZID=America/New_York:20190815T220000
DTSTAMP:20260423T144656
CREATED:20190706T135129Z
LAST-MODIFIED:20190706T135129Z
UID:839-1565899200-1565906400@www.matthewbrowerpianist.com
SUMMARY:Grease live at the Mann Center with the Chamber Orchestra of Philadelphia
DESCRIPTION:After his debut at the Mann Center for La La Land in Concert\, Matthew returns to perform the full score of Grease with the Chamber Orchestra of Philadelphia. Come experience this classic movie with live music! Tickets and information can be found here: https://manncenter.org/events/2019-08-15/grease
URL:https://www.matthewbrowerpianist.com/event/grease-live-at-the-mann-center-with-the-chamber-orchestra-of-philadelphia/
LOCATION:Mann Center for the Performing Arts\, 5201 Parkside Ave\, Philadelphia\, PA\, 19131
END:VEVENT
BEGIN:VEVENT
DTSTART;VALUE=DATE:20190724
DTEND;VALUE=DATE:20190805
DTSTAMP:20260423T144656
CREATED:20190530T234638Z
LAST-MODIFIED:20190530T234638Z
UID:828-1563926400-1564963199@www.matthewbrowerpianist.com
SUMMARY:Master Players Festival at the University of Delaware
DESCRIPTION:In his 5th year as a piano faculty member at MPF\, Matthew will also be directing the Collaborative Piano program\, in addition to performing with world-class faculty from leading orchestras and conservatories.
URL:https://www.matthewbrowerpianist.com/event/master-players-festival-at-the-university-of-delaware-2/
LOCATION:University of Delaware\, Newark\, DE
END:VEVENT
BEGIN:VEVENT
DTSTART;VALUE=DATE:20190723
DTEND;VALUE=DATE:20190725
DTSTAMP:20260423T144656
CREATED:20190601T052526Z
LAST-MODIFIED:20190601T052526Z
UID:831-1563840000-1564012799@www.matthewbrowerpianist.com
SUMMARY:Play Week Maryland
DESCRIPTION:Matthew will be joining the chamber music faculty at Play Week Maryland\, a summer program that has been running for over 30 years! This year’s program will conveniently take place at Washington College\, and Matthew will be coaching numerous ensembles and repertoire ranging from Beethoven to Faure.
URL:https://www.matthewbrowerpianist.com/event/play-week-maryland/
LOCATION:Washington College\, Chestertown\, MD
END:VEVENT
BEGIN:VEVENT
DTSTART;VALUE=DATE:20190620
DTEND;VALUE=DATE:20190624
DTSTAMP:20260423T144656
CREATED:20190530T234044Z
LAST-MODIFIED:20190625T022026Z
UID:825-1560988800-1561334399@www.matthewbrowerpianist.com
SUMMARY:Rodgers and Hammerstein's "A Grand Night for Singing"
DESCRIPTION:Matthew will join a fine cast of singers at the Infinity Theatre in Annapolis\, Maryland for five runs of this fun musical revue! Tickets can be found here: https://infinitytheatre.com/rodgers-and-hammersteins-a-grand-night-for-singing/
URL:https://www.matthewbrowerpianist.com/event/rodgers-and-hammersteins-a-grand-night-for-singing/
LOCATION:The Children’s Theater of Annapolis\, 1661 Bay Head Rd.\, Annapolis\, MD\, 21409
END:VEVENT
BEGIN:VEVENT
DTSTART;VALUE=DATE:20190610
DTEND;VALUE=DATE:20190611
DTSTAMP:20260423T144656
CREATED:20180909T042524Z
LAST-MODIFIED:20181019T150722Z
UID:680-1560124800-1560211199@www.matthewbrowerpianist.com
SUMMARY:Two Piano Jazz Concert with Joe Holt
DESCRIPTION:This dueling piano program will feature Gershwin’s Rhapsody in Blue and jazz standards.
URL:https://www.matthewbrowerpianist.com/event/two-piano-jazz-concert-with-joe-holt/
LOCATION:The Mainstay\, 5753 Main St\, Rock Hall\, MD
END:VEVENT
BEGIN:VEVENT
DTSTART;TZID=America/New_York:20190509T190000
DTEND;TZID=America/New_York:20190509T210000
DTSTAMP:20260423T144656
CREATED:20190114T202839Z
LAST-MODIFIED:20190116T191710Z
UID:750-1557428400-1557435600@www.matthewbrowerpianist.com
SUMMARY:6-wire World Music Ensemble
DESCRIPTION:Tickets and information: https://waltonartscenter.org/tickets/series/10×10/6-wire/
URL:https://www.matthewbrowerpianist.com/event/6-wire-world-music-ensemble/
LOCATION:Walton Arts Center: Baum Walker Hall\, 495 W. Dickson St.\, Fayetteville\, Arkansas\, 72701
END:VEVENT
BEGIN:VEVENT
DTSTART;TZID=America/New_York:20190503T160000
DTEND;TZID=America/New_York:20190503T180000
DTSTAMP:20260423T144656
CREATED:20190114T205135Z
LAST-MODIFIED:20190114T205135Z
UID:760-1556899200-1556906400@www.matthewbrowerpianist.com
SUMMARY:Washington College Voice Department Recital
DESCRIPTION:
URL:https://www.matthewbrowerpianist.com/event/washington-college-voice-department-recital/
LOCATION:Hotchkiss Recital Hall\, Washington College\, Chestertown\, MD\, United States
END:VEVENT
BEGIN:VEVENT
DTSTART;TZID=America/New_York:20190427T150000
DTEND;TZID=America/New_York:20190427T170000
DTSTAMP:20260423T144656
CREATED:20180909T043229Z
LAST-MODIFIED:20180909T050845Z
UID:683-1556377200-1556384400@www.matthewbrowerpianist.com
SUMMARY:The Mountains Are Calling: University of Delaware Master Players Concert Series
DESCRIPTION:Matthew will join violinist/composer Xiang Gao and others to perform new works that address environmental issues and honor our planet’s beauty in celebration of Earth Day. Tickets and information can be found here: https://www.masterplayers.udel.edu/events/imusic-11
URL:https://www.matthewbrowerpianist.com/event/the-mountains-are-calling-university-of-delaware-master-players-concert-series/
LOCATION:Mitchell Hall\, University of Delaware\, Newark\, DE\, United States
END:VEVENT
END:VCALENDAR