BEGIN:VCALENDAR
VERSION:2.0
PRODID:-//Matthew Brower - ECPv6.9.0//NONSGML v1.0//EN
CALSCALE:GREGORIAN
METHOD:PUBLISH
X-ORIGINAL-URL:https://www.matthewbrowerpianist.com
X-WR-CALDESC:Events for Matthew Brower
REFRESH-INTERVAL;VALUE=DURATION:PT1H
X-Robots-Tag:noindex
X-PUBLISHED-TTL:PT1H
BEGIN:VTIMEZONE
TZID:America/New_York
BEGIN:DAYLIGHT
TZOFFSETFROM:-0500
TZOFFSETTO:-0400
TZNAME:EDT
DTSTART:20200308T070000
END:DAYLIGHT
BEGIN:STANDARD
TZOFFSETFROM:-0400
TZOFFSETTO:-0500
TZNAME:EST
DTSTART:20201101T060000
END:STANDARD
BEGIN:DAYLIGHT
TZOFFSETFROM:-0500
TZOFFSETTO:-0400
TZNAME:EDT
DTSTART:20210314T070000
END:DAYLIGHT
BEGIN:STANDARD
TZOFFSETFROM:-0400
TZOFFSETTO:-0500
TZNAME:EST
DTSTART:20211107T060000
END:STANDARD
BEGIN:DAYLIGHT
TZOFFSETFROM:-0500
TZOFFSETTO:-0400
TZNAME:EDT
DTSTART:20220313T070000
END:DAYLIGHT
BEGIN:STANDARD
TZOFFSETFROM:-0400
TZOFFSETTO:-0500
TZNAME:EST
DTSTART:20221106T060000
END:STANDARD
END:VTIMEZONE
BEGIN:VEVENT
DTSTART;VALUE=DATE:20221002
DTEND;VALUE=DATE:20221003
DTSTAMP:20260423T130657
CREATED:20220904T043815Z
LAST-MODIFIED:20220904T043815Z
UID:1175-1664668800-1664755199@www.matthewbrowerpianist.com
SUMMARY:Emory Bassoon Day
DESCRIPTION:Matthew will collaborate with Emory professor Shelly Unger and guest artist Stephanie Patterson (Professor at the University of North Carolina School of the Arts) for Emory University’s Bassoon Day.
URL:https://www.matthewbrowerpianist.com/event/emory-bassoon-day/
LOCATION:Emory University
END:VEVENT
BEGIN:VEVENT
DTSTART;TZID=America/New_York:20220917T190000
DTEND;TZID=America/New_York:20220917T190000
DTSTAMP:20260423T130657
CREATED:20220904T040403Z
LAST-MODIFIED:20220904T040403Z
UID:1171-1663441200-1663441200@www.matthewbrowerpianist.com
SUMMARY:Performance at the Bender Jewish Community Center of Greater Washington
DESCRIPTION:Matthew will team up with percussionist Wei Wu and 6-WIRE in concert at the Bender JCC.
URL:https://www.matthewbrowerpianist.com/event/performance-at-the-bender-jewish-community-center-of-greater-washington/
LOCATION:Bender JCCGW\, 6125 Montrose Road\, Rockville\, MD\, 20852
END:VEVENT
BEGIN:VEVENT
DTSTART;TZID=America/New_York:20220910T170000
DTEND;TZID=America/New_York:20220910T170000
DTSTAMP:20260423T130657
CREATED:20220904T033454Z
LAST-MODIFIED:20220904T033454Z
UID:1165-1662829200-1662829200@www.matthewbrowerpianist.com
SUMMARY:6-WIRE at The Plaza Hotel
DESCRIPTION:6-WIRE will perform at a fundraising event for CivilizASIAN Foundation\, an organization that promotes Asian and Asian American culture.
URL:https://www.matthewbrowerpianist.com/event/6-wire-at-the-plaza-hotel/
LOCATION:The Plaza Hotel\, Central Park South at 59th Street\, New York\, NY\, 10019
END:VEVENT
BEGIN:VEVENT
DTSTART;TZID=America/New_York:20220604T123000
DTEND;TZID=America/New_York:20220604T140000
DTSTAMP:20260423T130657
CREATED:20220220T015055Z
LAST-MODIFIED:20220220T015055Z
UID:1141-1654345800-1654351200@www.matthewbrowerpianist.com
SUMMARY:6-WIRE & Alexander Kariotis\, tenor: From Classical to Rock
DESCRIPTION:
URL:https://www.matthewbrowerpianist.com/event/6-wire-alexander-kariotis-tenor-from-classical-to-rock/
LOCATION:University of Delaware\, Newark\, DE
END:VEVENT
BEGIN:VEVENT
DTSTART;TZID=America/New_York:20220413T180000
DTEND;TZID=America/New_York:20220413T200000
DTSTAMP:20260423T130657
CREATED:20220226T064724Z
LAST-MODIFIED:20220226T064724Z
UID:1153-1649872800-1649880000@www.matthewbrowerpianist.com
SUMMARY:Oxford Chamber Ensembles Concert
DESCRIPTION:
URL:https://www.matthewbrowerpianist.com/event/oxford-chamber-ensembles-concert/
LOCATION:Oxford College\, 801 Emory St\, Oxford\, GA\, 30054
END:VEVENT
BEGIN:VEVENT
DTSTART;TZID=America/New_York:20220412T193000
DTEND;TZID=America/New_York:20220412T213000
DTSTAMP:20260423T130657
CREATED:20220226T065048Z
LAST-MODIFIED:20220226T065048Z
UID:1155-1649791800-1649799000@www.matthewbrowerpianist.com
SUMMARY:Oxford Chorale Earth Day Concert
DESCRIPTION:
URL:https://www.matthewbrowerpianist.com/event/oxford-chorale-earth-day-concert/
LOCATION:Oxford College\, 801 Emory St\, Oxford\, GA\, 30054
END:VEVENT
BEGIN:VEVENT
DTSTART;TZID=America/New_York:20220401T160000
DTEND;TZID=America/New_York:20220401T180000
DTSTAMP:20260423T130657
CREATED:20220220T020140Z
LAST-MODIFIED:20220220T020140Z
UID:1146-1648828800-1648836000@www.matthewbrowerpianist.com
SUMMARY:Piano Master Class - Oxford College
DESCRIPTION:
URL:https://www.matthewbrowerpianist.com/event/piano-master-class-oxford-college/
LOCATION:Oxford College\, 801 Emory St\, Oxford\, GA\, 30054
END:VEVENT
BEGIN:VEVENT
DTSTART;VALUE=DATE:20220401
DTEND;VALUE=DATE:20220402
DTSTAMP:20260423T130657
CREATED:20211017T052059Z
LAST-MODIFIED:20211017T052059Z
UID:1134-1648771200-1648857599@www.matthewbrowerpianist.com
SUMMARY:6-WIRE Master Class at Agnes Scott College
DESCRIPTION:
URL:https://www.matthewbrowerpianist.com/event/6-wire-master-class-at-agnes-scott-college/
LOCATION:Agnes Scott College Presser Hall\, 141 E. College Ave\, Decatur\, GA\, 30030
END:VEVENT
BEGIN:VEVENT
DTSTART;TZID=America/New_York:20220331T193000
DTEND;TZID=America/New_York:20220331T210000
DTSTAMP:20260423T130657
CREATED:20211017T052003Z
LAST-MODIFIED:20211110T135353Z
UID:1131-1648755000-1648760400@www.matthewbrowerpianist.com
SUMMARY:6-WIRE Concert at Agnes Scott College
DESCRIPTION:
URL:https://www.matthewbrowerpianist.com/event/6-wire-concert-at-agnes-scott-college/
LOCATION:Agnes Scott College Presser Hall\, 141 E. College Ave\, Decatur\, GA\, 30030
END:VEVENT
BEGIN:VEVENT
DTSTART;TZID=America/New_York:20220318T120000
DTEND;TZID=America/New_York:20220318T130000
DTSTAMP:20260423T130657
CREATED:20220226T024233Z
LAST-MODIFIED:20220226T024233Z
UID:1148-1647604800-1647608400@www.matthewbrowerpianist.com
SUMMARY:Emory Chamber Music Society of Atlanta
DESCRIPTION:Matthew will accompany flutist Julia Nagel for their Cooke Noontime Series performance of Carl Nielsen’s Flute Concerto (1st movement).
URL:https://www.matthewbrowerpianist.com/event/emory-chamber-music-society-of-atlanta/
LOCATION:Carlos Museum\, 571 South Kilgo Cir NE\, Atlanta\, GA\, 30322
END:VEVENT
BEGIN:VEVENT
DTSTART;TZID=America/New_York:20220312T190000
DTEND;TZID=America/New_York:20220312T203000
DTSTAMP:20260423T130657
CREATED:20211108T013546Z
LAST-MODIFIED:20211110T135434Z
UID:1137-1647111600-1647117000@www.matthewbrowerpianist.com
SUMMARY:6-WIRE Concert at Arkansas State University
DESCRIPTION:
URL:https://www.matthewbrowerpianist.com/event/6-wire-concert-at-arkansas-state-university/
LOCATION:Arkansas State University\, Jonesboro\, AR
END:VEVENT
BEGIN:VEVENT
DTSTART;TZID=America/New_York:20220312T093000
DTEND;TZID=America/New_York:20220312T110000
DTSTAMP:20260423T130657
CREATED:20220220T015802Z
LAST-MODIFIED:20220220T015802Z
UID:1144-1647077400-1647082800@www.matthewbrowerpianist.com
SUMMARY:Piano Master Class - Arkansas State University
DESCRIPTION:
URL:https://www.matthewbrowerpianist.com/event/piano-master-class-arkansas-state-university/
LOCATION:Arkansas State University\, Jonesboro\, AR
END:VEVENT
BEGIN:VEVENT
DTSTART;TZID=America/New_York:20220224T200000
DTEND;TZID=America/New_York:20220224T210000
DTSTAMP:20260423T130657
CREATED:20220226T025707Z
LAST-MODIFIED:20220226T025707Z
UID:1151-1645732800-1645736400@www.matthewbrowerpianist.com
SUMMARY:Choral Exchange Concert (Oxford Chorale with Agnes Scott Choir)
DESCRIPTION:
URL:https://www.matthewbrowerpianist.com/event/choral-exchange-concert-oxford-chorale-with-agnes-scott-choir/
LOCATION:Oxford College\, 801 Emory St\, Oxford\, GA\, 30054
END:VEVENT
BEGIN:VEVENT
DTSTART;TZID=America/New_York:20211203T193000
DTEND;TZID=America/New_York:20211203T210000
DTSTAMP:20260423T130657
CREATED:20210919T222347Z
LAST-MODIFIED:20210919T222347Z
UID:1108-1638559800-1638565200@www.matthewbrowerpianist.com
SUMMARY:Oxford Chorale Holiday Concert
DESCRIPTION:Matthew will be joining the Chorale at Oxford College of Emory University for their holiday performance.
URL:https://www.matthewbrowerpianist.com/event/oxford-chorale-holiday-concert/
LOCATION:Oxford College\, 801 Emory St\, Oxford\, GA\, 30054
END:VEVENT
BEGIN:VEVENT
DTSTART;TZID=America/New_York:20211119T193000
DTEND;TZID=America/New_York:20211119T210000
DTSTAMP:20260423T130657
CREATED:20210919T221925Z
LAST-MODIFIED:20210919T221925Z
UID:1106-1637350200-1637355600@www.matthewbrowerpianist.com
SUMMARY:Oxford Chamber Ensemble Concert
DESCRIPTION:Matthew will be accompanying various chamber groups at Oxford College of Emory University.
URL:https://www.matthewbrowerpianist.com/event/oxford-chamber-ensemble-concert/
LOCATION:Oxford College\, 801 Emory St\, Oxford\, GA\, 30054
END:VEVENT
BEGIN:VEVENT
DTSTART;TZID=America/New_York:20211028T193000
DTEND;TZID=America/New_York:20211028T210000
DTSTAMP:20260423T130657
CREATED:20210919T221725Z
LAST-MODIFIED:20210919T221725Z
UID:1103-1635449400-1635454800@www.matthewbrowerpianist.com
SUMMARY:Oxford Chorale Concert
DESCRIPTION:Matthew will be accompanying the Oxford Chorale at Oxford College of Emory University.
URL:https://www.matthewbrowerpianist.com/event/oxford-chorale-concert/
LOCATION:Oxford College\, 801 Emory St\, Oxford\, GA\, 30054
END:VEVENT
BEGIN:VEVENT
DTSTART;TZID=America/New_York:20211021T143000
DTEND;TZID=America/New_York:20211021T173000
DTSTAMP:20260423T130657
CREATED:20211002T232822Z
LAST-MODIFIED:20211002T232822Z
UID:1111-1634826600-1634837400@www.matthewbrowerpianist.com
SUMMARY:Emory University Art Songs by Women Composers Symposium
DESCRIPTION:Matthew will be performing with Emory singers in a workshop dedicated to art songs by women composers.
URL:https://www.matthewbrowerpianist.com/event/emory-university-art-songs-by-women-composers-symposium/
LOCATION:Emory University Performing Arts Studio\, 1804 N Decatur Rd\, Atlanta\, GA\, 30307
END:VEVENT
BEGIN:VEVENT
DTSTART;VALUE=DATE:20210423
DTEND;VALUE=DATE:20210424
DTSTAMP:20260423T130657
CREATED:20210427T051348Z
LAST-MODIFIED:20210427T051348Z
UID:1095-1619136000-1619222399@www.matthewbrowerpianist.com
SUMMARY:Adjudicating the International Young Artists Piano Competition
DESCRIPTION:Matthew will be judging students for the International Young Artists Piano Competition’s Regional Round\, held virtually this year. The competition promotes cultural exchange by featuring required Chinese compositions in additional to traditional western Classical music.
URL:https://www.matthewbrowerpianist.com/event/adjudicating-the-international-young-artists-piano-competition/
LOCATION:AR
END:VEVENT
BEGIN:VEVENT
DTSTART;TZID=America/New_York:20210316T153000
DTEND;TZID=America/New_York:20210316T163000
DTSTAMP:20260423T130657
CREATED:20210216T024837Z
LAST-MODIFIED:20210216T030425Z
UID:1089-1615908600-1615912200@www.matthewbrowerpianist.com
SUMMARY:Panel Chair and Presentation at 2021 MTNA National Conference
DESCRIPTION:Matthew will be leading the panel\, Guiding the Next Generation of Collaborators: Career Paths in Collaborative Piano\, at the 2021 Music Teachers National Association Conference. Joining him are fellow presenters Ana Maria Otamendi and Elena Lacheva (Louisiana State University) and Peter Marshall (Georgia State University). Matthew’s presentation is titled “Finding Your Voice as an Opera Coach.”
URL:https://www.matthewbrowerpianist.com/event/panel-chair-and-presentation-at-2021-mtna-national-conference/
LOCATION:AR
END:VEVENT
BEGIN:VEVENT
DTSTART;VALUE=DATE:20210227
DTEND;VALUE=DATE:20210228
DTSTAMP:20260423T130657
CREATED:20210216T030341Z
LAST-MODIFIED:20210216T030341Z
UID:1091-1614384000-1614470399@www.matthewbrowerpianist.com
SUMMARY:Adjudicating the Maryland Music Teachers Association's Saul Roas Piano Competition
DESCRIPTION:
URL:https://www.matthewbrowerpianist.com/event/adjudicating-the-maryland-music-teachers-associations-saul-roas-piano-competition/
LOCATION:AR
END:VEVENT
BEGIN:VEVENT
DTSTART;VALUE=DATE:20201113
DTEND;VALUE=DATE:20201115
DTSTAMP:20260423T130657
CREATED:20200320T052345Z
LAST-MODIFIED:20201012T125714Z
UID:1012-1605225600-1605398399@www.matthewbrowerpianist.com
SUMMARY:Beethoven Piano Concerto No. 2 with the Annapolis Chamber Orchestra (CANCELED due to COVID-19)
DESCRIPTION:In celebration of the composer’s 250th birthday\, Matthew will be the soloist for Beethoven’s 2nd Piano Concerto with the Annapolis Chamber Orchestra\, under the direction of J. Ernest Green.
URL:https://www.matthewbrowerpianist.com/event/beethoven-piano-concerto-no-2-with-the-annapolis-chamber-orchestra/
LOCATION:Maryland Hall for the Creative Arts\, 801 Chase St.\, Annapolis\, MD
END:VEVENT
BEGIN:VEVENT
DTSTART;TZID=America/New_York:20201107T150000
DTEND;TZID=America/New_York:20201107T170000
DTSTAMP:20260423T130657
CREATED:20200320T045545Z
LAST-MODIFIED:20201030T040036Z
UID:1005-1604761200-1604768400@www.matthewbrowerpianist.com
SUMMARY:University of Delaware Master Players Concert Series (CANCELED due to COVID-19)
DESCRIPTION:6-wire will present a program featuring new compositions and arrangements as part of UD’s 2020-2021 Concert Series entitled Prisms of Sound.
URL:https://www.matthewbrowerpianist.com/event/university-of-delaware-master-players-concert-series-6-wire/
LOCATION:Gore Recital Hall\, University of Delaware\, Newark\, DE
END:VEVENT
BEGIN:VEVENT
DTSTART;TZID=America/New_York:20200719T190000
DTEND;TZID=America/New_York:20200719T203000
DTSTAMP:20260423T130657
CREATED:20191011T205404Z
LAST-MODIFIED:20200710T192037Z
UID:911-1595185200-1595190600@www.matthewbrowerpianist.com
SUMMARY:Midsummer Night Soirees: 6-WIRE World Music Band (POSTPONED DUE TO COVID-19)
DESCRIPTION:6-wire will kick off the Master Players Concert Series’ new Midsummer Night Soirees series at the University of Delaware. The band will perform new compositions and feature the return of tabla virtuoso Sandeep Das\, member of the Silk Road Ensemble. \n  \n 
URL:https://www.matthewbrowerpianist.com/event/university-of-delaware-alumni-weekend-concert-6-wire-world-music-band/
LOCATION:Gore Recital Hall\, University of Delaware\, Newark\, DE
END:VEVENT
BEGIN:VEVENT
DTSTART;VALUE=DATE:20200622
DTEND;VALUE=DATE:20200625
DTSTAMP:20260423T130657
CREATED:20191219T205318Z
LAST-MODIFIED:20200406T023547Z
UID:945-1592784000-1593043199@www.matthewbrowerpianist.com
SUMMARY:International Conference of Europeanists at the University of Iceland (CANCELED due to COVID-19)
DESCRIPTION:Matthew will be traveling to Reykjavík to co-present a paper with Didem Uca entitled “Little Women and Mansplaining: Mignon’s Ventriloquist Act”.
URL:https://www.matthewbrowerpianist.com/event/international-conference-of-europeanists-at-the-university-of-iceland/
LOCATION:University of Iceland\, Reykjavík
END:VEVENT
BEGIN:VEVENT
DTSTART;VALUE=DATE:20200531
DTEND;VALUE=DATE:20200621
DTSTAMP:20260423T130657
CREATED:20200320T051420Z
LAST-MODIFIED:20200505T023538Z
UID:1007-1590883200-1592697599@www.matthewbrowerpianist.com
SUMMARY:Collaborative Piano Institute at Louisiana State University
DESCRIPTION:Matthew is excited to be joining the esteemed faculty of this summer’s Collaborative Piano Institute at Louisiana State University\, which will take place online due to COVID-19. He will be giving lectures\, teaching private lessons\, and coaching up-and-coming pianists from around the world. Check out his faculty profile here: https://www.collaborativepianoinstitute.org/faculty/piano-faculty/matthew-brower-piano/
URL:https://www.matthewbrowerpianist.com/event/collaborative-piano-institute-at-louisiana-state-university/
LOCATION:Louisiana State University\, Baton Rouge\, LA
END:VEVENT
BEGIN:VEVENT
DTSTART;VALUE=DATE:20200518
DTEND;VALUE=DATE:20200519
DTSTAMP:20260423T130657
CREATED:20200330T041754Z
LAST-MODIFIED:20200330T041754Z
UID:1017-1589760000-1589846399@www.matthewbrowerpianist.com
SUMMARY:Prince George's Music Teachers Association Piano Competition
DESCRIPTION:Due to COVID-19\, Matthew will be virtually adjudicating the piano competition for high school students for Prince George’s County\, Maryland.
URL:https://www.matthewbrowerpianist.com/event/prince-georges-music-teachers-association-piano-competition/
LOCATION:AR
END:VEVENT
BEGIN:VEVENT
DTSTART;TZID=America/New_York:20200501T160000
DTEND;TZID=America/New_York:20200501T180000
DTSTAMP:20260423T130657
CREATED:20190923T231014Z
LAST-MODIFIED:20200320T041746Z
UID:878-1588348800-1588356000@www.matthewbrowerpianist.com
SUMMARY:Washington College Voice Department Recital (CANCELED due to COVID-19)
DESCRIPTION:
URL:https://www.matthewbrowerpianist.com/event/washington-college-voice-department-recital-2/
LOCATION:Hotchkiss Recital Hall\, Washington College\, Chestertown\, MD\, United States
END:VEVENT
BEGIN:VEVENT
DTSTART;TZID=America/New_York:20200425T200000
DTEND;TZID=America/New_York:20200425T220000
DTSTAMP:20260423T130657
CREATED:20191011T210310Z
LAST-MODIFIED:20200330T184321Z
UID:913-1587844800-1587852000@www.matthewbrowerpianist.com
SUMMARY:Sacred and Profane – Carmina Burana with the Annapolis Chorale (CANCELED due to COVID-19)
DESCRIPTION:Matthew joins the Annapolis Chorale and the Washington College Chorus for another performance of Carmina Burana at the Maryland Hall for the Creative Arts.
URL:https://www.matthewbrowerpianist.com/event/sacred-and-profane-carmina-burana-with-the-annapolis-chorale/
LOCATION:Maryland Hall for the Creative Arts\, 801 Chase St.\, Annapolis\, MD
END:VEVENT
BEGIN:VEVENT
DTSTART;TZID=America/New_York:20200425T150000
DTEND;TZID=America/New_York:20200425T160000
DTSTAMP:20260423T130657
CREATED:20200426T184220Z
LAST-MODIFIED:20200426T184308Z
UID:1045-1587826800-1587830400@www.matthewbrowerpianist.com
SUMMARY:Master Players Concert Series: Backstage Pass Webinar
DESCRIPTION:The University of Delaware’s Master Players Concert Series presents a free webinar as part of their new Backstage Pass Online series. Violinist Xiang Gao will perform live via Zoom over Matthew’s remotely recorded piano accompaniments. More information can be found here: https://www.masterplayers.udel.edu/outreach/backstagepassonline
URL:https://www.matthewbrowerpianist.com/event/master-players-concert-series-backstage-pass-webinar/
LOCATION:AR
END:VEVENT
BEGIN:VEVENT
DTSTART;TZID=America/New_York:20200424T193000
DTEND;TZID=America/New_York:20200424T210000
DTSTAMP:20260423T130657
CREATED:20190821T014653Z
LAST-MODIFIED:20200320T041844Z
UID:862-1587756600-1587762000@www.matthewbrowerpianist.com
SUMMARY:Washington College Premier Artists Series: Carmina Burana (CANCELED due to COVID-19)
DESCRIPTION:Come join us for a colossal event as Matthew and the Washington College Chorus team up with the Annapolis Chorale for a performance of Carl Orff’s classic Carmina Burana!
URL:https://www.matthewbrowerpianist.com/event/washington-college-premier-artists-series-carmina-burana/
LOCATION:Decker Theatre\, Washington College\, Chestertown\, MD\, United States
END:VEVENT
END:VCALENDAR